BEGIN:VCALENDAR
VERSION:2.0
PRODID:-//STOP EAT REPEAT - ECPv6.0.1.1//NONSGML v1.0//EN
CALSCALE:GREGORIAN
METHOD:PUBLISH
X-WR-CALNAME:STOP EAT REPEAT
X-ORIGINAL-URL:https://stopeatrepeat.com
X-WR-CALDESC:Events for STOP EAT REPEAT
REFRESH-INTERVAL;VALUE=DURATION:PT1H
X-Robots-Tag:noindex
X-PUBLISHED-TTL:PT1H
BEGIN:VTIMEZONE
TZID:America/Chicago
BEGIN:DAYLIGHT
TZOFFSETFROM:-0600
TZOFFSETTO:-0500
TZNAME:CDT
DTSTART:20230312T080000
END:DAYLIGHT
BEGIN:STANDARD
TZOFFSETFROM:-0500
TZOFFSETTO:-0600
TZNAME:CST
DTSTART:20231105T070000
END:STANDARD
BEGIN:DAYLIGHT
TZOFFSETFROM:-0600
TZOFFSETTO:-0500
TZNAME:CDT
DTSTART:20240310T080000
END:DAYLIGHT
BEGIN:STANDARD
TZOFFSETFROM:-0500
TZOFFSETTO:-0600
TZNAME:CST
DTSTART:20241103T070000
END:STANDARD
TZID:America/New_York
BEGIN:DAYLIGHT
TZOFFSETFROM:-0500
TZOFFSETTO:-0400
TZNAME:EDT
DTSTART:20230312T070000
END:DAYLIGHT
BEGIN:STANDARD
TZOFFSETFROM:-0400
TZOFFSETTO:-0500
TZNAME:EST
DTSTART:20231105T060000
END:STANDARD
END:VTIMEZONE
BEGIN:VEVENT
DTSTART;TZID=America/Chicago:20240419T170000
DTEND;TZID=America/Chicago:20240419T190000
DTSTAMP:20260423T192143
CREATED:20231213T204347Z
LAST-MODIFIED:20231213T204347Z
UID:632-1713546000-1713553200@stopeatrepeat.com
SUMMARY:Webb Bridge
DESCRIPTION:
URL:https://stopeatrepeat.com/event/webb-bridge/
ORGANIZER;CN="Stop%20Eat%20Repeat":MAILTO:stop8repeat@gmail.com
END:VEVENT
BEGIN:VEVENT
DTSTART;VALUE=DATE:20231126
DTEND;VALUE=DATE:20231127
DTSTAMP:20260423T192143
CREATED:20231005T204714Z
LAST-MODIFIED:20231005T204714Z
UID:624-1700956800-1701043199@stopeatrepeat.com
SUMMARY:North Georgia Outlet
DESCRIPTION:
URL:https://stopeatrepeat.com/event/north-georgia-outlet-3/
END:VEVENT
BEGIN:VEVENT
DTSTART;VALUE=DATE:20231125
DTEND;VALUE=DATE:20231126
DTSTAMP:20260423T192143
CREATED:20231005T204653Z
LAST-MODIFIED:20231005T204653Z
UID:622-1700870400-1700956799@stopeatrepeat.com
SUMMARY:North Georgia Outlet
DESCRIPTION:
URL:https://stopeatrepeat.com/event/north-georgia-outlet-2/
END:VEVENT
BEGIN:VEVENT
DTSTART;VALUE=DATE:20231124
DTEND;VALUE=DATE:20231125
DTSTAMP:20260423T192143
CREATED:20231005T204444Z
LAST-MODIFIED:20231005T204618Z
UID:620-1700784000-1700870399@stopeatrepeat.com
SUMMARY:North Georgia Outlet
DESCRIPTION:
URL:https://stopeatrepeat.com/event/north-georgia-outlet/
ORGANIZER;CN="Stop%20Eat%20Repeat":MAILTO:stop8repeat@gmail.com
END:VEVENT
BEGIN:VEVENT
DTSTART;TZID=America/Chicago:20231111T110000
DTEND;TZID=America/Chicago:20231111T210000
DTSTAMP:20260423T192143
CREATED:20231004T172233Z
LAST-MODIFIED:20231004T172233Z
UID:614-1699700400-1699736400@stopeatrepeat.com
SUMMARY:North Point Diwali Event
DESCRIPTION:
URL:https://stopeatrepeat.com/event/north-point-diwali-event/
ORGANIZER;CN="Stop%20Eat%20Repeat":MAILTO:stop8repeat@gmail.com
END:VEVENT
BEGIN:VEVENT
DTSTART;TZID=America/Chicago:20231110T180000
DTEND;TZID=America/Chicago:20231110T220000
DTSTAMP:20260423T192143
CREATED:20231012T165123Z
LAST-MODIFIED:20231012T165123Z
UID:628-1699639200-1699653600@stopeatrepeat.com
SUMMARY:C Lake Estates-TBD
DESCRIPTION:
URL:https://stopeatrepeat.com/event/c-lake-estates-tbd/
END:VEVENT
BEGIN:VEVENT
DTSTART;TZID=America/Chicago:20231104T080000
DTEND;TZID=America/Chicago:20231104T170000
DTSTAMP:20260423T192143
CREATED:20230910T214101Z
LAST-MODIFIED:20230910T214101Z
UID:604-1699084800-1699117200@stopeatrepeat.com
SUMMARY:JC Diwali Event
DESCRIPTION:
URL:https://stopeatrepeat.com/event/jc-diwali-event/
ORGANIZER;CN="Stop%20Eat%20Repeat":MAILTO:stop8repeat@gmail.com
END:VEVENT
BEGIN:VEVENT
DTSTART;TZID=America/Chicago:20231025T100000
DTEND;TZID=America/Chicago:20231025T150000
DTSTAMP:20260423T192143
CREATED:20231005T162355Z
LAST-MODIFIED:20231005T162355Z
UID:616-1698228000-1698246000@stopeatrepeat.com
SUMMARY:JC Lunch
DESCRIPTION:
URL:https://stopeatrepeat.com/event/jc-lunch/
ORGANIZER;CN="Stop%20Eat%20Repeat":MAILTO:stop8repeat@gmail.com
END:VEVENT
BEGIN:VEVENT
DTSTART;VALUE=DATE:20231022
DTEND;VALUE=DATE:20231023
DTSTAMP:20260423T192143
CREATED:20231005T204313Z
LAST-MODIFIED:20231005T204313Z
UID:618-1697932800-1698019199@stopeatrepeat.com
SUMMARY:Garba
DESCRIPTION:
URL:https://stopeatrepeat.com/event/garba/
ORGANIZER;CN="Stop%20Eat%20Repeat":MAILTO:stop8repeat@gmail.com
END:VEVENT
BEGIN:VEVENT
DTSTART;TZID=America/Chicago:20231021T110000
DTEND;TZID=America/Chicago:20231021T160000
DTSTAMP:20260423T192143
CREATED:20230829T171530Z
LAST-MODIFIED:20231009T232624Z
UID:601-1697886000-1697904000@stopeatrepeat.com
SUMMARY:TDF
DESCRIPTION:
URL:https://stopeatrepeat.com/event/tdf/
ORGANIZER;CN="Stop%20Eat%20Repeat":MAILTO:stop8repeat@gmail.com
END:VEVENT
BEGIN:VEVENT
DTSTART;TZID=America/Chicago:20231014T090000
DTEND;TZID=America/Chicago:20231014T170000
DTSTAMP:20260423T192143
CREATED:20221011T164510Z
LAST-MODIFIED:20230714T164057Z
UID:121-1697274000-1697302800@stopeatrepeat.com
SUMMARY:D Blvd Bash Event
DESCRIPTION:
URL:https://stopeatrepeat.com/event/blvd-bash/
LOCATION:Atlanta\, GA\, US\, midtown\, Atlanta\, GA\, 30301\, United States
ORGANIZER;CN="Stop%20Eat%20Repeat":MAILTO:stop8repeat@gmail.com
END:VEVENT
BEGIN:VEVENT
DTSTART;VALUE=DATE:20231013
DTEND;VALUE=DATE:20231014
DTSTAMP:20260423T192143
CREATED:20230829T171439Z
LAST-MODIFIED:20230829T171439Z
UID:599-1697155200-1697241599@stopeatrepeat.com
SUMMARY:Pad Event
DESCRIPTION:
URL:https://stopeatrepeat.com/event/pad-event/
ORGANIZER;CN="Stop%20Eat%20Repeat":MAILTO:stop8repeat@gmail.com
END:VEVENT
BEGIN:VEVENT
DTSTART;TZID=America/Chicago:20230917T120000
DTEND;TZID=America/Chicago:20230917T170000
DTSTAMP:20260423T192143
CREATED:20230912T182734Z
LAST-MODIFIED:20230912T182734Z
UID:609-1694952000-1694970000@stopeatrepeat.com
SUMMARY:Suwanee Fest
DESCRIPTION:
URL:https://stopeatrepeat.com/event/suwanee-fest/
LOCATION:Suwanee Fest\, 330 Town Center Avenue\, Suwanee\, GA\, 30024\, United States
ORGANIZER;CN="Stop%20Eat%20Repeat":MAILTO:stop8repeat@gmail.com
END:VEVENT
BEGIN:VEVENT
DTSTART;TZID=America/Chicago:20230916T093000
DTEND;TZID=America/Chicago:20230916T190000
DTSTAMP:20260423T192143
CREATED:20230714T163837Z
LAST-MODIFIED:20230912T182620Z
UID:583-1694856600-1694890800@stopeatrepeat.com
SUMMARY:Suwanee Wild Wild Fest
DESCRIPTION:
URL:https://stopeatrepeat.com/event/fest-september-16-and-17/
LOCATION:Suwanee Fest\, 330 Town Center Avenue\, Suwanee\, GA\, 30024\, United States
ORGANIZER;CN="Stop%20Eat%20Repeat":MAILTO:stop8repeat@gmail.com
END:VEVENT
BEGIN:VEVENT
DTSTART;TZID=America/Chicago:20230826T110000
DTEND;TZID=America/Chicago:20230826T170000
DTSTAMP:20260423T192143
CREATED:20230327T234744Z
LAST-MODIFIED:20230327T234744Z
UID:501-1693047600-1693069200@stopeatrepeat.com
SUMMARY:International Festival 2023 - SAVE THE DATE August 26th
DESCRIPTION:
URL:https://stopeatrepeat.com/event/international-festival-2023-save-the-date-august-26th/
ORGANIZER;CN="Stop%20Eat%20Repeat":MAILTO:stop8repeat@gmail.com
END:VEVENT
BEGIN:VEVENT
DTSTART;VALUE=DATE:20230819
DTEND;VALUE=DATE:20230820
DTSTAMP:20260423T192143
CREATED:20230730T151603Z
LAST-MODIFIED:20230730T151603Z
UID:596-1692403200-1692489599@stopeatrepeat.com
SUMMARY:IFA Freedom Mela
DESCRIPTION:
URL:https://stopeatrepeat.com/event/ifa-freedom-mela/
ORGANIZER;CN="Stop%20Eat%20Repeat":MAILTO:stop8repeat@gmail.com
END:VEVENT
BEGIN:VEVENT
DTSTART;VALUE=DATE:20230812
DTEND;VALUE=DATE:20230813
DTSTAMP:20260423T192143
CREATED:20230724T172656Z
LAST-MODIFIED:20230724T172656Z
UID:589-1691798400-1691884799@stopeatrepeat.com
SUMMARY:Independence day
DESCRIPTION:
URL:https://stopeatrepeat.com/event/independence-day/
ORGANIZER;CN="Stop%20Eat%20Repeat":MAILTO:stop8repeat@gmail.com
END:VEVENT
BEGIN:VEVENT
DTSTART;VALUE=DATE:20230811
DTEND;VALUE=DATE:20230812
DTSTAMP:20260423T192143
CREATED:20230725T191938Z
LAST-MODIFIED:20230725T192130Z
UID:591-1691712000-1691798399@stopeatrepeat.com
SUMMARY:TBD @Event
DESCRIPTION:
URL:https://stopeatrepeat.com/event/tdb-event/
ORGANIZER;CN="Stop%20Eat%20Repeat":MAILTO:stop8repeat@gmail.com
END:VEVENT
BEGIN:VEVENT
DTSTART;TZID=America/Chicago:20230730T143000
DTEND;TZID=America/Chicago:20230730T235900
DTSTAMP:20260423T192143
CREATED:20230725T202906Z
LAST-MODIFIED:20230725T202948Z
UID:594-1690727400-1690761540@stopeatrepeat.com
SUMMARY:TBD @Party
DESCRIPTION:
URL:https://stopeatrepeat.com/event/tbd-party/
ORGANIZER;CN="Stop%20Eat%20Repeat":MAILTO:stop8repeat@gmail.com
END:VEVENT
BEGIN:VEVENT
DTSTART;TZID=America/Chicago:20230728T180000
DTEND;TZID=America/Chicago:20230728T220000
DTSTAMP:20260423T192143
CREATED:20230714T163422Z
LAST-MODIFIED:20230714T163422Z
UID:581-1690567200-1690581600@stopeatrepeat.com
SUMMARY:TBD @ dunwoody
DESCRIPTION:
URL:https://stopeatrepeat.com/event/tbd-dunwoody/
ORGANIZER;CN="Stop%20Eat%20Repeat":MAILTO:stop8repeat@gmail.com
END:VEVENT
BEGIN:VEVENT
DTSTART;TZID=America/Chicago:20230722T180000
DTEND;TZID=America/Chicago:20230722T220000
DTSTAMP:20260423T192143
CREATED:20230512T162132Z
LAST-MODIFIED:20230714T163319Z
UID:533-1690048800-1690063200@stopeatrepeat.com
SUMMARY:Mountain Crest Community
DESCRIPTION:
URL:https://stopeatrepeat.com/event/mountain-crest-community-2/
ORGANIZER;CN="Stop%20Eat%20Repeat":MAILTO:stop8repeat@gmail.com
END:VEVENT
BEGIN:VEVENT
DTSTART;TZID=America/Chicago:20230721T180000
DTEND;TZID=America/Chicago:20230721T220000
DTSTAMP:20260423T192143
CREATED:20230614T140940Z
LAST-MODIFIED:20230714T163233Z
UID:573-1689962400-1689976800@stopeatrepeat.com
SUMMARY:Landing at Kelly Mill
DESCRIPTION:
URL:https://stopeatrepeat.com/event/landing-at-kelly-mill/
LOCATION:Landing at Kelly Mill\, 1865 Geranium Lane\, Cumming\, GA\, United States
ORGANIZER;CN="Stop%20Eat%20Repeat":MAILTO:stop8repeat@gmail.com
END:VEVENT
BEGIN:VEVENT
DTSTART;TZID=America/Chicago:20230715T180000
DTEND;TZID=America/Chicago:20230715T220000
DTSTAMP:20260423T192143
CREATED:20230323T191345Z
LAST-MODIFIED:20230714T163112Z
UID:492-1689444000-1689458400@stopeatrepeat.com
SUMMARY:North Cove @ Cumming
DESCRIPTION:
URL:https://stopeatrepeat.com/event/north-cove-cumming/
LOCATION:North Cove Cumming\, 2790 Anchor Bay\, Cumming\, GA\, 30041\, United States
ORGANIZER;CN="Stop%20Eat%20Repeat":MAILTO:stop8repeat@gmail.com
END:VEVENT
BEGIN:VEVENT
DTSTART;TZID=America/Chicago:20230714T180000
DTEND;TZID=America/Chicago:20230714T220000
DTSTAMP:20260423T192143
CREATED:20230508T131043Z
LAST-MODIFIED:20230714T163024Z
UID:523-1689357600-1689372000@stopeatrepeat.com
SUMMARY:Old Atlanta Church @ Cumming
DESCRIPTION:
URL:https://stopeatrepeat.com/event/may-10th-old-atlanta-church-cumming/
LOCATION:Chruch at old atlanta\, 3150 Old Atlanta Rd\, Suwanee\, GA\, 30024\, United States
ORGANIZER;CN="Stop%20Eat%20Repeat":MAILTO:stop8repeat@gmail.com
END:VEVENT
BEGIN:VEVENT
DTSTART;TZID=America/New_York:20230702T183000
DTEND;TZID=America/New_York:20230702T213000
DTSTAMP:20260423T192143
CREATED:20230227T213337Z
LAST-MODIFIED:20230622T122028Z
UID:423-1688322600-1688333400@stopeatrepeat.com
SUMMARY:FBC
DESCRIPTION:FBC woodstock\, 11905 Hwy92\, woodstock 30188\n5:30 – 9:15 pm
URL:https://stopeatrepeat.com/event/denmark-community/
LOCATION:Atlanta\, GA\, US\, midtown\, Atlanta\, GA\, 30301\, United States
ORGANIZER;CN="Stop%20Eat%20Repeat":MAILTO:stop8repeat@gmail.com
END:VEVENT
BEGIN:VEVENT
DTSTART;TZID=America/Chicago:20230616T180000
DTEND;TZID=America/Chicago:20230616T220000
DTSTAMP:20260423T192143
CREATED:20230614T140742Z
LAST-MODIFIED:20230614T140742Z
UID:569-1686938400-1686952800@stopeatrepeat.com
SUMMARY:Traditions Community
DESCRIPTION:
URL:https://stopeatrepeat.com/event/traditions-community-2/
LOCATION:Traditions\, 4085 Oxford Park Ln\, Cumming\, GA\, 30040\, United States
ORGANIZER;CN="Stop%20Eat%20Repeat":MAILTO:stop8repeat@gmail.com
END:VEVENT
BEGIN:VEVENT
DTSTART;TZID=America/Chicago:20230611T120000
DTEND;TZID=America/Chicago:20230611T180000
DTSTAMP:20260423T192143
CREATED:20230607T235344Z
LAST-MODIFIED:20230607T235344Z
UID:566-1686484800-1686506400@stopeatrepeat.com
SUMMARY:North Georgia Outlets
DESCRIPTION:
URL:https://stopeatrepeat.com/event/north-georgia-outlets/
LOCATION:North Georgia Premium Outlets\, 800 GA 400\, Dawsonville\, GA\, 30534\, United States
ORGANIZER;CN="Stop%20Eat%20Repeat":MAILTO:stop8repeat@gmail.com
END:VEVENT
BEGIN:VEVENT
DTSTART;VALUE=DATE:20230610
DTEND;VALUE=DATE:20230611
DTSTAMP:20260423T192143
CREATED:20230511T011801Z
LAST-MODIFIED:20230511T011801Z
UID:529-1686355200-1686441599@stopeatrepeat.com
SUMMARY:June 10 - TBDP
DESCRIPTION:
URL:https://stopeatrepeat.com/event/june-10-tbdp/
ORGANIZER;CN="Stop%20Eat%20Repeat":MAILTO:stop8repeat@gmail.com
END:VEVENT
BEGIN:VEVENT
DTSTART;TZID=America/Chicago:20230609T180000
DTEND;TZID=America/Chicago:20230609T220000
DTSTAMP:20260423T192143
CREATED:20230607T212507Z
LAST-MODIFIED:20230607T212507Z
UID:563-1686333600-1686348000@stopeatrepeat.com
SUMMARY:North Cove Community
DESCRIPTION:
URL:https://stopeatrepeat.com/event/north-cove-community/
LOCATION:North Cove Cumming\, 2790 Anchor Bay\, Cumming\, GA\, 30041\, United States
ORGANIZER;CN="Stop%20Eat%20Repeat":MAILTO:stop8repeat@gmail.com
END:VEVENT
BEGIN:VEVENT
DTSTART;TZID=America/Chicago:20230608T110000
DTEND;TZID=America/Chicago:20230608T140000
DTSTAMP:20260423T192143
CREATED:20230310T023615Z
LAST-MODIFIED:20230310T023615Z
UID:464-1686222000-1686232800@stopeatrepeat.com
SUMMARY:ALLEN PLAZA LUNCH
DESCRIPTION:
URL:https://stopeatrepeat.com/event/allen-plaza-lunch/
LOCATION:ALLEN PLAZA\, 55 Ivan Allen Jr Blvd NW\, Atlanta\, GA 30308\, Atlanta\, GA\, 30308\, United States
ORGANIZER;CN="Stop%20Eat%20Repeat":MAILTO:stop8repeat@gmail.com
END:VEVENT
END:VCALENDAR