BEGIN:VCALENDAR
VERSION:2.0
PRODID:-//STOP EAT REPEAT - ECPv6.0.1.1//NONSGML v1.0//EN
CALSCALE:GREGORIAN
METHOD:PUBLISH
X-WR-CALNAME:STOP EAT REPEAT
X-ORIGINAL-URL:https://stopeatrepeat.com
X-WR-CALDESC:Events for STOP EAT REPEAT
REFRESH-INTERVAL;VALUE=DURATION:PT1H
X-Robots-Tag:noindex
X-PUBLISHED-TTL:PT1H
BEGIN:VTIMEZONE
TZID:America/Chicago
BEGIN:DAYLIGHT
TZOFFSETFROM:-0600
TZOFFSETTO:-0500
TZNAME:CDT
DTSTART:20230312T080000
END:DAYLIGHT
BEGIN:STANDARD
TZOFFSETFROM:-0500
TZOFFSETTO:-0600
TZNAME:CST
DTSTART:20231105T070000
END:STANDARD
TZID:America/New_York
BEGIN:DAYLIGHT
TZOFFSETFROM:-0500
TZOFFSETTO:-0400
TZNAME:EDT
DTSTART:20230312T070000
END:DAYLIGHT
BEGIN:STANDARD
TZOFFSETFROM:-0400
TZOFFSETTO:-0500
TZNAME:EST
DTSTART:20231105T060000
END:STANDARD
END:VTIMEZONE
BEGIN:VEVENT
DTSTART;TZID=America/Chicago:20230522T173000
DTEND;TZID=America/Chicago:20230522T210000
DTSTAMP:20260424T053324
CREATED:20230522T191613Z
LAST-MODIFIED:20230522T191613Z
UID:543-1684776600-1684789200@stopeatrepeat.com
SUMMARY:New Life Atlanta Church
DESCRIPTION:
URL:https://stopeatrepeat.com/event/new-life-atlanta-church/
LOCATION:Chruch at old atlanta\, 3150 Old Atlanta Rd\, Suwanee\, GA\, 30024\, United States
ORGANIZER;CN="Stop%20Eat%20Repeat":MAILTO:stop8repeat@gmail.com
END:VEVENT
BEGIN:VEVENT
DTSTART;TZID=America/Chicago:20230519T180000
DTEND;TZID=America/Chicago:20230519T220000
DTSTAMP:20260424T053324
CREATED:20230519T014048Z
LAST-MODIFIED:20230519T014048Z
UID:536-1684519200-1684533600@stopeatrepeat.com
SUMMARY:MAA at Dunwoody
DESCRIPTION:
URL:https://stopeatrepeat.com/event/maa-at-dunwoody/
LOCATION:MAA Dunwoody\, 4777 Ashford Dunwoody Rd\, Atlanta\, GA\, 30338\, United States
ORGANIZER;CN="Stop%20Eat%20Repeat":MAILTO:stop8repeat@gmail.com
END:VEVENT
BEGIN:VEVENT
DTSTART;TZID=America/Chicago:20230512T180000
DTEND;TZID=America/Chicago:20230512T220000
DTSTAMP:20260424T053324
CREATED:20230512T161835Z
LAST-MODIFIED:20230512T161835Z
UID:531-1683914400-1683928800@stopeatrepeat.com
SUMMARY:Traditions Community
DESCRIPTION:
URL:https://stopeatrepeat.com/event/traditions-community/
LOCATION:Traditions\, 4085 Oxford Park Ln\, Cumming\, GA\, 30040\, United States
ORGANIZER;CN="Stop%20Eat%20Repeat":MAILTO:stop8repeat@gmail.com
END:VEVENT
BEGIN:VEVENT
DTSTART;TZID=America/Chicago:20230511T170000
DTEND;TZID=America/Chicago:20230511T220000
DTSTAMP:20260424T053324
CREATED:20230508T131117Z
LAST-MODIFIED:20230508T131146Z
UID:525-1683824400-1683842400@stopeatrepeat.com
SUMMARY:May 11th - Old Atlanta Church @ Cumming
DESCRIPTION:
URL:https://stopeatrepeat.com/event/may-11th-old-atlanta-church-cumming/
LOCATION:Chruch at old atlanta\, 3150 Old Atlanta Rd\, Suwanee\, GA\, 30024\, United States
ORGANIZER;CN="Stop%20Eat%20Repeat":MAILTO:stop8repeat@gmail.com
END:VEVENT
BEGIN:VEVENT
DTSTART;TZID=America/Chicago:20230509T170000
DTEND;TZID=America/Chicago:20230509T220000
DTSTAMP:20260424T053324
CREATED:20230508T130857Z
LAST-MODIFIED:20230508T130857Z
UID:521-1683651600-1683669600@stopeatrepeat.com
SUMMARY:May 9th - Old Atlanta Church @ Cumming
DESCRIPTION:
URL:https://stopeatrepeat.com/event/may-9th-old-atlanta-church-cumming/
LOCATION:Chruch at old atlanta\, 3150 Old Atlanta Rd\, Suwanee\, GA\, 30024\, United States
ORGANIZER;CN="Stop%20Eat%20Repeat":MAILTO:stop8repeat@gmail.com
END:VEVENT
BEGIN:VEVENT
DTSTART;TZID=America/New_York:20230508T170000
DTEND;TZID=America/New_York:20230508T220000
DTSTAMP:20260424T053324
CREATED:20230508T130756Z
LAST-MODIFIED:20230508T130756Z
UID:519-1683565200-1683583200@stopeatrepeat.com
SUMMARY:Old Atlanta Church @ Cumming
DESCRIPTION:
URL:https://stopeatrepeat.com/event/old-atlanta-church-cumming/
LOCATION:Chruch at old atlanta\, 3150 Old Atlanta Rd\, Suwanee\, GA\, 30024\, United States
ORGANIZER;CN="Stop%20Eat%20Repeat":MAILTO:stop8repeat@gmail.com
END:VEVENT
BEGIN:VEVENT
DTSTART;TZID=America/Chicago:20230507T160000
DTEND;TZID=America/Chicago:20230507T200000
DTSTAMP:20260424T053324
CREATED:20230327T234126Z
LAST-MODIFIED:20230327T234126Z
UID:499-1683475200-1683489600@stopeatrepeat.com
SUMMARY:AAF @ Fowler Park
DESCRIPTION:
URL:https://stopeatrepeat.com/event/aaf-fowler-park/
LOCATION:Fowler Park\, 4110 Carolene Way\, Cumming\, GA\, 30040\, United States
ORGANIZER;CN="Stop%20Eat%20Repeat":MAILTO:stop8repeat@gmail.com
END:VEVENT
BEGIN:VEVENT
DTSTART;TZID=America/Chicago:20230506T170000
DTEND;TZID=America/Chicago:20230506T220000
DTSTAMP:20260424T053324
CREATED:20230426T143643Z
LAST-MODIFIED:20230505T152413Z
UID:508-1683392400-1683410400@stopeatrepeat.com
SUMMARY:1st Anniversary Event
DESCRIPTION:Join us on May 6th from 5pm to 10pm as we celebrate our first anniversary with a bang! Our food truck will be serving up a wide variety of mouth-watering dishes that are sure to tantalize your taste buds. From savory curries to crispy samosas\, we’ve got something for everyone. \nBut that’s not all! We’re also arranging a bouncy house for the kids to enjoy while the adults savor our delicious food. There will be music for all ages\, so bring the whole family and enjoy an evening of fun\, food\, and celebration. \nWe take pride in our authentic Indian flavors and strive to bring the taste of India to your doorstep. Our food truck is a labor of love\, and we’re excited to share our passion with you as we celebrate our first anniversary. \nDon’t miss out on the festivities! Mark your calendars and come join us on May 6th for an unforgettable evening of food and fun \n 
URL:https://stopeatrepeat.com/event/firstanniversary/
LOCATION:Chruch at old atlanta\, 3150 Old Atlanta Rd\, Suwanee\, GA\, 30024\, United States
ORGANIZER;CN="Stop%20Eat%20Repeat":MAILTO:stop8repeat@gmail.com
END:VEVENT
BEGIN:VEVENT
DTSTART;TZID=America/Chicago:20230504T110000
DTEND;TZID=America/Chicago:20230504T140000
DTSTAMP:20260424T053324
CREATED:20230310T023358Z
LAST-MODIFIED:20230310T023358Z
UID:461-1683198000-1683208800@stopeatrepeat.com
SUMMARY:Monarch Plaza Lunch
DESCRIPTION:
URL:https://stopeatrepeat.com/event/monarch-plaza-lunch/
LOCATION:Monarch Plaza\, 3414 Peachtree Rd NE #101\, Atlanta\, GA\, 303266\, United States
ORGANIZER;CN="Stop%20Eat%20Repeat":MAILTO:stop8repeat@gmail.com
END:VEVENT
BEGIN:VEVENT
DTSTART;TZID=America/Chicago:20230430T133000
DTEND;TZID=America/Chicago:20230430T183000
DTSTAMP:20260424T053324
CREATED:20230426T143835Z
LAST-MODIFIED:20230426T143835Z
UID:510-1682861400-1682879400@stopeatrepeat.com
SUMMARY:cultural event
DESCRIPTION:
URL:https://stopeatrepeat.com/event/cultural-event/
LOCATION:Desana Middle School\, 625 James Rd\, Alpharetta\, GA\, 30004\, United States
ORGANIZER;CN="Stop%20Eat%20Repeat":MAILTO:stop8repeat@gmail.com
END:VEVENT
BEGIN:VEVENT
DTSTART;TZID=America/Chicago:20230429T170000
DTEND;TZID=America/Chicago:20230429T220000
DTSTAMP:20260424T053324
CREATED:20230426T143346Z
LAST-MODIFIED:20230426T143346Z
UID:505-1682787600-1682805600@stopeatrepeat.com
SUMMARY:IMT @ Alpharetta
DESCRIPTION:
URL:https://stopeatrepeat.com/event/imt-alpharetta/
LOCATION:IMT Alpharetta\, 3500 Northpoint Pkwy\, Alpharetta\, GA\, 30005\, United States
ORGANIZER;CN="Stop%20Eat%20Repeat":MAILTO:stop8repeat@gmail.com
END:VEVENT
BEGIN:VEVENT
DTSTART;TZID=America/Chicago:20230428T180000
DTEND;TZID=America/Chicago:20230428T220000
DTSTAMP:20260424T053324
CREATED:20230426T142502Z
LAST-MODIFIED:20230426T142502Z
UID:503-1682704800-1682719200@stopeatrepeat.com
SUMMARY:Shell Gas Station @ Peachtree Pkwy
DESCRIPTION:
URL:https://stopeatrepeat.com/event/shell-gas-station-peachtree-pkwy/
LOCATION:Shell Gas – Cumming\, 1520 Peachtree Pkwy\, Cumming\, GA\, 30041\, United States
ORGANIZER;CN="Stop%20Eat%20Repeat":MAILTO:stop8repeat@gmail.com
END:VEVENT
BEGIN:VEVENT
DTSTART;VALUE=DATE:20230415
DTEND;VALUE=DATE:20230416
DTSTAMP:20260424T053324
CREATED:20230308T164012Z
LAST-MODIFIED:20230310T021313Z
UID:443-1681516800-1681603199@stopeatrepeat.com
SUMMARY:Desi Baisakhi Mela  2023
DESCRIPTION:Hendricks Middle School \nAddress: 4950 Hyde Rd\, cummings\, GA \nTimings : from 1 pm to till close
URL:https://stopeatrepeat.com/event/desi-baisakhi-mela-2023/
END:VEVENT
BEGIN:VEVENT
DTSTART;TZID=America/Chicago:20230414T150000
DTEND;TZID=America/Chicago:20230414T180000
DTSTAMP:20260424T053324
CREATED:20230320T181817Z
LAST-MODIFIED:20230320T181817Z
UID:470-1681484400-1681495200@stopeatrepeat.com
SUMMARY:Asian Cultural Club
DESCRIPTION:
URL:https://stopeatrepeat.com/event/asian-cultural-club/
ORGANIZER;CN="Stop%20Eat%20Repeat":MAILTO:stop8repeat@gmail.com
END:VEVENT
BEGIN:VEVENT
DTSTART;VALUE=DATE:20230414
DTEND;VALUE=DATE:20230415
DTSTAMP:20260424T053324
CREATED:20230227T213725Z
LAST-MODIFIED:20230227T213725Z
UID:427-1681430400-1681516799@stopeatrepeat.com
SUMMARY:Denmark Community
DESCRIPTION:Forsyth County 5pm tp 7pm
URL:https://stopeatrepeat.com/event/denmark-community-2/
END:VEVENT
BEGIN:VEVENT
DTSTART;TZID=America/Chicago:20230406T180000
DTEND;TZID=America/Chicago:20230406T200000
DTSTAMP:20260424T053324
CREATED:20230320T181619Z
LAST-MODIFIED:20230320T181619Z
UID:468-1680804000-1680811200@stopeatrepeat.com
SUMMARY:Cobb County Parks
DESCRIPTION:
URL:https://stopeatrepeat.com/event/cobb-county-parks/
ORGANIZER;CN="Stop%20Eat%20Repeat":MAILTO:stop8repeat@gmail.com
END:VEVENT
BEGIN:VEVENT
DTSTART;TZID=America/Chicago:20230325T170000
DTEND;TZID=America/Chicago:20230325T220000
DTSTAMP:20260424T053324
CREATED:20230323T192145Z
LAST-MODIFIED:20230323T192145Z
UID:496-1679763600-1679781600@stopeatrepeat.com
SUMMARY:Church @ Old Atlanta Rd
DESCRIPTION:
URL:https://stopeatrepeat.com/event/church-old-atlanta-rd/
LOCATION:Chruch at old atlanta\, 3150 Old Atlanta Rd\, Suwanee\, GA\, 30024\, United States
ORGANIZER;CN="Stop%20Eat%20Repeat":MAILTO:stop8repeat@gmail.com
END:VEVENT
BEGIN:VEVENT
DTSTART;TZID=America/Chicago:20230318T160000
DTEND;TZID=America/Chicago:20230318T210000
DTSTAMP:20260424T053324
CREATED:20230310T022448Z
LAST-MODIFIED:20230310T023118Z
UID:456-1679155200-1679173200@stopeatrepeat.com
SUMMARY:Traditions @ Cumming
DESCRIPTION:
URL:https://stopeatrepeat.com/event/traditions-cumming/
LOCATION:Traditions\, 4085 Oxford Park Ln\, Cumming\, GA\, 30040\, United States
END:VEVENT
BEGIN:VEVENT
DTSTART;TZID=America/Chicago:20230317T150000
DTEND;TZID=America/Chicago:20230317T180000
DTSTAMP:20260424T053324
CREATED:20230310T022930Z
LAST-MODIFIED:20230310T022930Z
UID:459-1679065200-1679076000@stopeatrepeat.com
SUMMARY:Cultural Club - Holi Celebrations
DESCRIPTION:
URL:https://stopeatrepeat.com/event/cultural-club-holi-celebrations/
END:VEVENT
BEGIN:VEVENT
DTSTART;VALUE=DATE:20230316
DTEND;VALUE=DATE:20230317
DTSTAMP:20260424T053324
CREATED:20230227T214354Z
LAST-MODIFIED:20230227T214354Z
UID:432-1678924800-1679011199@stopeatrepeat.com
SUMMARY:Wildwood Office Building Lunch
DESCRIPTION:Time  :   11am – 2pm \nAddress : 2300 windy Ridge Parkway\, Atlanta\, GA 30339
URL:https://stopeatrepeat.com/event/wildwood-office-building-lunch/
END:VEVENT
BEGIN:VEVENT
DTSTART;TZID=America/Chicago:20230312T110000
DTEND;TZID=America/Chicago:20230312T163000
DTSTAMP:20260424T053324
CREATED:20230310T021501Z
LAST-MODIFIED:20230310T021501Z
UID:454-1678618800-1678638600@stopeatrepeat.com
SUMMARY:Private Events
DESCRIPTION:
URL:https://stopeatrepeat.com/event/private-events/
LOCATION:Atlanta\, GA\, US\, midtown\, Atlanta\, GA\, 30301\, United States
END:VEVENT
BEGIN:VEVENT
DTSTART;TZID=America/Chicago:20230311T110000
DTEND;TZID=America/Chicago:20230311T150000
DTSTAMP:20260424T053324
CREATED:20230308T165617Z
LAST-MODIFIED:20230308T165617Z
UID:447-1678532400-1678546800@stopeatrepeat.com
SUMMARY:Brunch @ IMT Alpharetta
DESCRIPTION:Address : 3500 North Point Parkway Alpharetta\, GA \n 
URL:https://stopeatrepeat.com/event/brunch-imt-alpharetta/
END:VEVENT
BEGIN:VEVENT
DTSTART;TZID=America/Chicago:20230310T180000
DTEND;TZID=America/Chicago:20230310T220000
DTSTAMP:20260424T053324
CREATED:20230308T163412Z
LAST-MODIFIED:20230308T165725Z
UID:441-1678471200-1678485600@stopeatrepeat.com
SUMMARY:MAA @ Dunwoody
DESCRIPTION:  \nAddress: 4777 Ashford Dunwoody Rd\, Atlanta\, GA 30338 \n 
URL:https://stopeatrepeat.com/event/maa-dunwoody-2/
END:VEVENT
BEGIN:VEVENT
DTSTART;TZID=America/Chicago:20230304T160000
DTEND;TZID=America/Chicago:20230304T210000
DTSTAMP:20260424T053324
CREATED:20230302T224544Z
LAST-MODIFIED:20230302T224544Z
UID:437-1677945600-1677963600@stopeatrepeat.com
SUMMARY:Mountain Crest Community
DESCRIPTION:📌 2710 Barley Downs Cir\, Cumming\, GA 30040
URL:https://stopeatrepeat.com/event/mountain-crest-community/
END:VEVENT
BEGIN:VEVENT
DTSTART;TZID=America/Chicago:20230303T180000
DTEND;TZID=America/Chicago:20230303T220000
DTSTAMP:20260424T053324
CREATED:20230302T224355Z
LAST-MODIFIED:20230302T224355Z
UID:435-1677866400-1677880800@stopeatrepeat.com
SUMMARY:Chevron
DESCRIPTION:📌 2860 Old Atlanta Rd\, Cumming\, GA 30041 2860 Old Atlanta Rd\, Cumming\, GA 30041
URL:https://stopeatrepeat.com/event/chevron/
END:VEVENT
BEGIN:VEVENT
DTSTART;TZID=America/Chicago:20230115T150000
DTEND;TZID=America/Chicago:20230115T220000
DTSTAMP:20260424T053324
CREATED:20230111T173534Z
LAST-MODIFIED:20230111T173534Z
UID:417-1673794800-1673820000@stopeatrepeat.com
SUMMARY:Sankranthi Sambaralu
DESCRIPTION:
URL:https://stopeatrepeat.com/event/sankranthi-sambaralu/
LOCATION:Desana Middle School\, 625 James Rd\, Alpharetta\, GA\, 30004\, United States
ORGANIZER;CN="Stop%20Eat%20Repeat":MAILTO:stop8repeat@gmail.com
END:VEVENT
BEGIN:VEVENT
DTSTART;TZID=America/Chicago:20230114T160000
DTEND;TZID=America/Chicago:20230114T220000
DTSTAMP:20260424T053324
CREATED:20230111T163431Z
LAST-MODIFIED:20230111T163431Z
UID:414-1673712000-1673733600@stopeatrepeat.com
SUMMARY:Old Atlanta Road
DESCRIPTION:
URL:https://stopeatrepeat.com/event/old-atlanta-road-3/
LOCATION:Chruch at old atlanta\, 3150 Old Atlanta Rd\, Suwanee\, GA\, 30024\, United States
ORGANIZER;CN="Stop%20Eat%20Repeat":MAILTO:stop8repeat@gmail.com
END:VEVENT
BEGIN:VEVENT
DTSTART;TZID=America/Chicago:20230113T180000
DTEND;TZID=America/Chicago:20230113T210000
DTSTAMP:20260424T053324
CREATED:20221104T211413Z
LAST-MODIFIED:20230111T163204Z
UID:195-1673632800-1673643600@stopeatrepeat.com
SUMMARY:Avia at North Springs
DESCRIPTION:
URL:https://stopeatrepeat.com/event/avia-at-north-springs/
LOCATION:Avia At North Springs\, 7150 Peachtree Dunwoody\, Atlanta\, GA\, 30328\, United States
ORGANIZER;CN="Stop%20Eat%20Repeat":MAILTO:stop8repeat@gmail.com
END:VEVENT
BEGIN:VEVENT
DTSTART;TZID=America/Chicago:20230107T160000
DTEND;TZID=America/Chicago:20230107T220000
DTSTAMP:20260424T053324
CREATED:20230103T205612Z
LAST-MODIFIED:20230103T205612Z
UID:401-1673107200-1673128800@stopeatrepeat.com
SUMMARY:IMT Stoneleigh at Deerfield
DESCRIPTION:
URL:https://stopeatrepeat.com/event/imt-stoneleigh-at-deerfield/
LOCATION:IMT Stoneleigh at Deerfield\, 1800 Deerfield Point\, Alpharetta\, 30004
ORGANIZER;CN="Stop%20Eat%20Repeat":MAILTO:stop8repeat@gmail.com
END:VEVENT
BEGIN:VEVENT
DTSTART;TZID=America/Chicago:20230106T180000
DTEND;TZID=America/Chicago:20230106T220000
DTSTAMP:20260424T053324
CREATED:20230103T205249Z
LAST-MODIFIED:20230103T205249Z
UID:397-1673028000-1673042400@stopeatrepeat.com
SUMMARY:Belmont at Park Ridge
DESCRIPTION:
URL:https://stopeatrepeat.com/event/belmont-at-park-ridge/
LOCATION:Belmont at Park Ridge\, 150 Rockberry Ln\, Alpharetta\, GA\, 30005\, United States
ORGANIZER;CN="Stop%20Eat%20Repeat":MAILTO:stop8repeat@gmail.com
END:VEVENT
END:VCALENDAR